BEGIN:VCALENDAR
PRODID:-//Microsoft Corporation//Outlook 14.0 MIMEDIR//EN
VERSION:2.0
METHOD:PUBLISH
BEGIN:VEVENT
UID:9cc0b08938da119eec456a15ed71fd09www.metiersdart.ca
DTSTAMP:20260423T130356Z
DTSTART:2026-05-07T10:00:0000Z
DTEND:2026-05-07T11:00:0000Z
SUMMARY:Webinaire - Découvrez les services du Consortium de coopération des entreprises collectives
LOCATION:En ligne
DESCRIPTION:Découvrez comment le Consortium peut vous donner accès à prix réduit à plus de 80 expert·e·s pour vous accompagner à chaque étape du développement de votre entreprise.
END:VEVENT
END:VCALENDAR